BEGIN:VCALENDAR
PRODID:-//eluceo/ical//2.0/EN
VERSION:2.0
CALSCALE:GREGORIAN
BEGIN:VEVENT
UID:f27fc676ff86789df967516200492e63
DTSTAMP:20260423T011702Z
SUMMARY:High Holiday Screening: Where Life Begins
DESCRIPTION:UJA Federation of Greater Toronto\nJewish Toronto Calendar\nhtt
 ps://jewishtoronto.com/calendar/high-holiday-screening-where-life-begins-1
 663773819\n\nIn Honour of the Days of Awe\, TJFF presents the Canadian pre
 miere of Where Life Begins.A beautifully-rendered and sensitive love story
  set in Italy during the holiday of Sukkot. An ultra-orthodox Jewish famil
 y from Aix-les-Bains in France comes to a farm in Calabria for a brief sta
 y every year to carry out a sacred mission: harvesting citrons. Here\, the
  farm owner Elio\, played by Riccardo Scamarcio (Eden is West\, John Wick 
 Chapter 2) connects with Esther\, the rebellious rabbi’s daughter. At...
DTSTART;TZID=America/Toronto:20221002T140000
DTEND;TZID=America/Toronto:20221002T163000
END:VEVENT
END:VCALENDAR
