BEGIN:VCALENDAR
PRODID:-//eluceo/ical//2.0/EN
VERSION:2.0
CALSCALE:GREGORIAN
BEGIN:VEVENT
UID:2deb9fbd79c4be48dd18fdac9d4aad10
DTSTAMP:20260422T133150Z
SUMMARY:HEW 2017  ‘Secrets of Survival’\, A Documentary
DESCRIPTION:UJA Federation of Greater Toronto\nJewish Toronto Calendar\nhtt
 ps://jewishtoronto.com/calendar/hew-2017--secrets-of-survival-a-documentar
 y-1508431871\n\nCanadian Malka Rosenbaum discovers she has a sister born i
 n the Holocaust…where is she?\nGerman Juergen Ulloth finds out he has a 
 different father\, an Amerian WW2 soldier…where is he?\nWe follow their 
 common search as they discover the secrets hidden from them about their pa
 st.\nDirector Martin Himel will be available for Q & A’s following the f
 ilm.\n\nThis program is generously co-sponsored by the Rapoport and Rosent
 hal families\, in honour of Mania Rapoport and in memory of Jack Rapopo...
DTSTART;TZID=America/Toronto:20171106T193000
DTEND;TZID=America/Toronto:20171106T213000
END:VEVENT
END:VCALENDAR
