BEGIN:VCALENDAR
PRODID:-//eluceo/ical//2.0/EN
VERSION:2.0
CALSCALE:GREGORIAN
BEGIN:VEVENT
UID:b36deeaa8ad608660b7ba445ef96b935
DTSTAMP:20260425T193711Z
SUMMARY:Heschel's AWEsome and WONDERful Tot Shabbat
DESCRIPTION:UJA Federation of Greater Toronto\nJewish Toronto Calendar\nhtt
 ps://jewishtoronto.com/calendar/heschels-awesome-and-wonderful-tot-shabbat
 -1694723911\n\nJoin us weekly for an interactive adult/child celebration w
 here you and your little one will see\, hear\, touch\, smell and taste the
  awe and wonder of Shabbat. $90 for 9 weeks. Please register at https://ww
 w.torontoheschel.org/shabbat-tot-program.
DTSTART;TZID=America/Toronto:20231013T100000
DTEND;TZID=America/Toronto:20231013T110000
END:VEVENT
END:VCALENDAR
