BEGIN:VCALENDAR
PRODID:-//eluceo/ical//2.0/EN
VERSION:2.0
CALSCALE:GREGORIAN
BEGIN:VEVENT
UID:f9f4cb3cbe3eaefa8340f5a2924902ee
DTSTAMP:20260421T064139Z
SUMMARY:Heschel - PJ Library Early Years Rosh Hashanah Party
DESCRIPTION:UJA Federation of Greater Toronto\nJewish Toronto Calendar\nhtt
 ps://jewishtoronto.com/calendar/heschel---pj-library-early-years-rosh-hash
 anah-party-1662664036\n\nPlease register at https://www.torontoheschel.org
 /admissions/open-houses
DTSTART;TZID=America/Toronto:20220918T100000
DTEND;TZID=America/Toronto:20220918T111500
END:VEVENT
END:VCALENDAR
