BEGIN:VCALENDAR
PRODID:-//eluceo/ical//2.0/EN
VERSION:2.0
CALSCALE:GREGORIAN
BEGIN:VEVENT
UID:2d216ae6028e10763ab7c75cdba34410
DTSTAMP:20260420T084936Z
SUMMARY:Heroic Nationalist or Cold Blooded Killer ?
DESCRIPTION:UJA Federation of Greater Toronto\nJewish Toronto Calendar\nhtt
 ps://jewishtoronto.com/calendar/heroic-nationalist-or-cold-blooded-killer-
 -1573139390\n\nThe Day I Discovered the horrible truth about my beloved gr
 andfather\, featuring Author & Journalist Sylvia Foti. $10 advance registr
 ation\, $20 at the door.
DTSTART;TZID=America/Toronto:20191127T200000
DTEND;TZID=America/Toronto:20191127T220000
END:VEVENT
END:VCALENDAR
