BEGIN:VCALENDAR
PRODID:-//eluceo/ical//2.0/EN
VERSION:2.0
CALSCALE:GREGORIAN
BEGIN:VEVENT
UID:71db2f6ca84ea7f079a7c060dad49ef6
DTSTAMP:20260424T095757Z
SUMMARY:Heritage\, History & Humanity: Master Class for Storytellers
DESCRIPTION:UJA Federation of Greater Toronto\nJewish Toronto Calendar\nhtt
 ps://jewishtoronto.com/calendar/heritage-history--humanity-master-class-fo
 r-storytellers-1730213982\n\nTheatre Dybbuk specializes in using historica
 l narratives that intersect with considerations of identity and heritage t
 o illuminate the forces at play in our contemporary societies.\n\nIn this 
 workshop\, the artists of theatre dybbuk take participants through a proce
 ss in which they gain tools to investigate their own personal and/or commu
 nal narratives\, texts\, and turning points as vessels to create new theat
 rical work that explores the complexities of our world.\n\nThis session us
 es a combin...
DTSTART;TZID=America/Toronto:20241121T070000
DTEND;TZID=America/Toronto:20241121T090000
END:VEVENT
END:VCALENDAR
