BEGIN:VCALENDAR
PRODID:-//eluceo/ical//2.0/EN
VERSION:2.0
CALSCALE:GREGORIAN
BEGIN:VEVENT
UID:927cec0a0b6f16fc752931ea64e7ef16
DTSTAMP:20260422T091443Z
SUMMARY:Hebrew Reading Crash Course
DESCRIPTION:UJA Federation of Greater Toronto\nJewish Toronto Calendar\nhtt
 ps://jewishtoronto.com/calendar/hebrew-reading-crash-course-1492623448\n\n
 Five 90 minute workshops to seriously upgrade your reading of Hebrew and a
 bility to pray and learn in Hebrew. 
DTSTART;TZID=America/Toronto:20170426T194500
DTEND;TZID=America/Toronto:20170426T194500
END:VEVENT
END:VCALENDAR
