BEGIN:VCALENDAR
PRODID:-//eluceo/ical//2.0/EN
VERSION:2.0
CALSCALE:GREGORIAN
BEGIN:VEVENT
UID:cb713284101c17e78feee6a2186d1f30
DTSTAMP:20260422T195041Z
SUMMARY:Hebrew Institute Enrichment: Designing and Crafting Zionism
DESCRIPTION:UJA Federation of Greater Toronto\nJewish Toronto Calendar\nhtt
 ps://jewishtoronto.com/calendar/hebrew-institute-enrichment-designing-and-
 crafting-zionism-1493651369\n\nA lecture with Sharoni Sibony\nWhat does a 
 Hebrew room look like? In 1906\, the Bezalel School of Arts and Crafts in 
 Jerusalem tried to shape an answer to this question but sometimes failed t
 o convince Jewish consumers of their vision. Will they convince you?
DTSTART;TZID=America/Toronto:20170514T140000
DTEND;TZID=America/Toronto:20170514T150000
END:VEVENT
END:VCALENDAR
