BEGIN:VCALENDAR
PRODID:-//eluceo/ical//2.0/EN
VERSION:2.0
CALSCALE:GREGORIAN
BEGIN:VEVENT
UID:1038c09b1e24114e10a38f08c3d6f9db
DTSTAMP:20260422T022535Z
SUMMARY:Healing Service with Rabbi Fryer Bodzin
DESCRIPTION:UJA Federation of Greater Toronto\nJewish Toronto Calendar\nhtt
 ps://jewishtoronto.com/calendar/healing-service-with-rabbi-fryer-bodzin-16
 13702691\n\nWhen you feel broken\, turn to our tradition for strength and 
 renewal. We offer regular healing services with Rabbi Fryer Bodzin via Zoo
 m. Join us as we enrich our lives and strive for a sense of shlaymoot\, we
 ll-being\, together.
DTSTART;TZID=America/Toronto:20210303T194500
DTEND;TZID=America/Toronto:20210303T204500
END:VEVENT
END:VCALENDAR
