BEGIN:VCALENDAR
PRODID:-//eluceo/ical//2.0/EN
VERSION:2.0
CALSCALE:GREGORIAN
BEGIN:VEVENT
UID:5e1f8ffcfb959004f37a501b54250657
DTSTAMP:20260419T124810Z
SUMMARY:Healing Service with Rabbi Fryer Bodzin
DESCRIPTION:UJA Federation of Greater Toronto\nJewish Toronto Calendar\nhtt
 ps://jewishtoronto.com/calendar/healing-service-with-rabbi-fryer-bodzin-16
 04006216\n\nWhen you feel broken\, turn to our tradition for strength and 
 renewal. We offer regular healing services with Rabbi Fryer Bodzin via Zoo
 m. Join us as we enrich our lives and strive for a sense of shlaymoot\, we
 ll-being\, together.
DTSTART;TZID=America/Toronto:20201104T194500
DTEND;TZID=America/Toronto:20201104T211500
END:VEVENT
END:VCALENDAR
