BEGIN:VCALENDAR
PRODID:-//eluceo/ical//2.0/EN
VERSION:2.0
CALSCALE:GREGORIAN
BEGIN:VEVENT
UID:d3566c3c10ef94c379f8673902b86984
DTSTAMP:20260420T093719Z
SUMMARY:Havurat HaSefer with Rabbi Adam Cutler
DESCRIPTION:UJA Federation of Greater Toronto\nJewish Toronto Calendar\nhtt
 ps://jewishtoronto.com/calendar/havurat-hasefer-with-rabbi-adam-cutler-147
 8212428\n\nBeth Tzedec's best-kept secret\, Havurat HaSefer\, now in its t
 hird year\, is a Jewish philosophy reading group that explores modern and 
 accessible works of Jewish thought. Guided by Rabbi Cutler\, this engaging
  group is for anyone interested in thinking and talking about the meaning 
 and purpose of Judaism in a global\, technologically advanced world. Limit
 ed spaces available. No charge.Books we will read this season:  Mordecai K
 aplan\, The Meaning of God in Modern Jewish Religion Yeshayahu Leibowi...
DTSTART;TZID=America/Toronto:20161110T193000
DTEND;TZID=America/Toronto:20161110T210000
END:VEVENT
END:VCALENDAR
