BEGIN:VCALENDAR
PRODID:-//eluceo/ical//2.0/EN
VERSION:2.0
CALSCALE:GREGORIAN
BEGIN:VEVENT
UID:cee6a46d9bf6fa608ba32a37f4760204
DTSTAMP:20260421T185700Z
SUMMARY:Have Things Changed?
DESCRIPTION:UJA Federation of Greater Toronto\nJewish Toronto Calendar\nhtt
 ps://jewishtoronto.com/calendar/have-things-changed-1588265564\n\nDr. Raca
 hael Turkienicz presents another session of online Lunchtime Learning\, Ha
 ve things changed? A presentation on Covid-19 and Post-Denominational Juda
 ism.\n\nTuesday\, May 5\, 2020\, 12.15 pm - 1.15 pm EDT\n\nRegistration $1
 0\, details www.rachaelscentre.com
DTSTART;TZID=America/Toronto:20200505T121500
DTEND;TZID=America/Toronto:20200505T131500
END:VEVENT
END:VCALENDAR
