BEGIN:VCALENDAR
PRODID:-//eluceo/ical//2.0/EN
VERSION:2.0
CALSCALE:GREGORIAN
BEGIN:VEVENT
UID:b7b93bd7b7700a3ab3313bff6379a03b
DTSTAMP:20260419T170745Z
SUMMARY:Havdalah Cookies and Milk with Story Time
DESCRIPTION:UJA Federation of Greater Toronto\nJewish Toronto Calendar\nhtt
 ps://jewishtoronto.com/calendar/havdalah-cookies-and-milk-with-story-time-
 1520364132\n\nTemple Har Zion and PJ Library presents Havdalah Cookies and
  Milk. Bring your little ones ages up to 5 years\, all cozy and warm and r
 eady for bed. Please join Karen Weiss\, Jewish Educator for a short and sw
 eet Havdalah service\, followed by cookies and milk and a delightful PJ Li
 brary bedtime story.For more information\, please contact Andrea Merling a
 t andreamerling@templeharzion.com
DTSTART;TZID=America/Toronto:20180414T180000
DTEND;TZID=America/Toronto:20180414T190000
END:VEVENT
END:VCALENDAR
