BEGIN:VCALENDAR
PRODID:-//eluceo/ical//2.0/EN
VERSION:2.0
CALSCALE:GREGORIAN
BEGIN:VEVENT
UID:f0d07d2fdb8069eb97723174087763a6
DTSTAMP:20260421T141231Z
SUMMARY:Hatzoloh Toronto Dinner - An Evening of Appreciation
DESCRIPTION:UJA Federation of Greater Toronto\nJewish Toronto Calendar\nhtt
 ps://jewishtoronto.com/calendar/hatzoloh-toronto-dinner-an-evening-of-appr
 eciation-1466169332\n\nSave a life. Save a world.
DTSTART;TZID=America/Toronto:20161121T180000
DTEND;TZID=America/Toronto:20161121T230000
END:VEVENT
END:VCALENDAR
