BEGIN:VCALENDAR
PRODID:-//eluceo/ical//2.0/EN
VERSION:2.0
CALSCALE:GREGORIAN
BEGIN:VEVENT
UID:e524cb41a58ed055d474e943dbebbeab
DTSTAMP:20260425T142517Z
SUMMARY:Harvey Atkin Purim Comedy Competition
DESCRIPTION:UJA Federation of Greater Toronto\nJewish Toronto Calendar\nhtt
 ps://jewishtoronto.com/calendar/harvey-atkin-purim-comedy-competition-1548
 347912\n\nCelebrate Purim with us. Megillah Reading at 7:00 p.m.\; Comedy 
 Show at 8:00 p.m.\, Headliner Jacob Samuel and MC Humble Howard (Howard Gl
 assman) Canadian Radio Personality. Light Refreshments and Cash Bar. Membe
 rs: $18\; Non-Members: $25. This program is sponsored\, in loving memory\,
  of lifetime member and resident filosof Harvey Atkin z” by Celia Tessle
 r Atkin. Register online at www.templesinai.net\, call the Temple Office a
 t 416-487-4161 or email programs@templesinai.net. 
DTSTART;TZID=America/Toronto:20190320T190000
DTEND;TZID=America/Toronto:20190320T230000
END:VEVENT
END:VCALENDAR
