BEGIN:VCALENDAR
PRODID:-//eluceo/ical//2.0/EN
VERSION:2.0
CALSCALE:GREGORIAN
BEGIN:VEVENT
UID:1aaedd622f196eb11e89b771110b7ace
DTSTAMP:20260424T235136Z
SUMMARY:Harpoon: Inside the Covert War Against Terrorism's Money Masters
DESCRIPTION:UJA Federation of Greater Toronto\nJewish Toronto Calendar\nhtt
 ps://jewishtoronto.com/calendar/harpoon-inside-the-covert-war-against-terr
 orisms-money-masters-1508269321\n\nBook Launching Event with a co-author N
 itsana Darshan-Leitner\n\nIsraeli activist attorney Nitsana Darshan-Leitne
 r has been leading the legal fight against terror financing\, the anti-Isr
 ael boycott campaigns (BDS) and combating the multitude of lawfare tactics
  utilized against the Jewish State by its enemies. As the president of the
  Israel based civil rights organization\, Shurat HaDin–Israel Law Center
 \, she has represented hundreds of terror victims in legal actions against
  terror organizat...
DTSTART;TZID=America/Toronto:20171123T193000
DTEND;TZID=America/Toronto:20171123T213000
END:VEVENT
END:VCALENDAR
