BEGIN:VCALENDAR
PRODID:-//eluceo/ical//2.0/EN
VERSION:2.0
CALSCALE:GREGORIAN
BEGIN:VEVENT
UID:d3938e13de9ac7e559b5b33c9849ad6a
DTSTAMP:20260423T214935Z
SUMMARY:Hanukkah Kol Bo Shabbat Service & Dinner
DESCRIPTION:UJA Federation of Greater Toronto\nJewish Toronto Calendar\nhtt
 ps://jewishtoronto.com/calendar/hanukkah-kol-bo-shabbat-service--dinner-17
 64108619\n\nCelebrate the festival of Hanukkah with a special Kol Bo Shabb
 at experience for all ages. We will begin with a musical Shabbat service i
 n the Sanctuary featuring visual t'filah\, uplifting melodies\, and the sp
 irit of the season.\n\nAfter services\, join us for a catered Shabbat dinn
 er\, followed by a lively sing-along in the Social Hall. Dancing is invite
 d but never required.\nWe will finish the evening with some delicious sufg
 aniyot!\n\nCome share in community\, music\, and light as we celebrate ...
DTSTART;TZID=America/Toronto:20251212T180000
DTEND;TZID=America/Toronto:20251212T210000
END:VEVENT
END:VCALENDAR
