BEGIN:VCALENDAR
PRODID:-//eluceo/ical//2.0/EN
VERSION:2.0
CALSCALE:GREGORIAN
BEGIN:VEVENT
UID:af5a309f834fc08a1536118b8837d9d2
DTSTAMP:20260421T225713Z
SUMMARY:Ha'ikar Zahav
DESCRIPTION:UJA Federation of Greater Toronto\nJewish Toronto Calendar\nhtt
 ps://jewishtoronto.com/calendar/haikar-zahav-1767819823\n\nHa’ikar\, Heb
 rew for\, "The most important thing"\n\nSince October 7\, we have seen a h
 uge rise in antisemitism in the GTA and beyond. Many Jews and Allies feel 
 alone\, or have trouble expressing how they feel\, especially when it come
 s to connecting to other generations.\n\nAt our event\, we invite you to j
 oin us in a brave space\, intergenerational guided-discussion to process t
 he realities of the post-October 7 world.\n\nFor Jews and allies aged 40 a
 nd up.\n\nAs covered in the Canadian Jewish N...
DTSTART;TZID=America/Toronto:20260114T193000
DTEND;TZID=America/Toronto:20260114T213000
END:VEVENT
END:VCALENDAR
