BEGIN:VCALENDAR
PRODID:-//eluceo/ical//2.0/EN
VERSION:2.0
CALSCALE:GREGORIAN
BEGIN:VEVENT
UID:f873691d2c9d4486b6f3a7cacb7d625b
DTSTAMP:20260424T011854Z
SUMMARY:Haifa U Trailblazers Reception and Panel Discussion
DESCRIPTION:UJA Federation of Greater Toronto\nJewish Toronto Calendar\nhtt
 ps://jewishtoronto.com/calendar/haifa-u-trailblazers-reception-and-panel-d
 iscussion\n\nYoung Professionals and Entrepreneurs Networking Session with
  Tony Comper\, Stephen Granovsky\, Dan Shulman and Renee Unger.\n\nFees: 
 $ 50.00 - Must be purchased in advance
DTSTART;TZID=America/Toronto:20140814T180000
DTEND;TZID=America/Toronto:20140814T210000
END:VEVENT
END:VCALENDAR
