BEGIN:VCALENDAR
PRODID:-//eluceo/ical//2.0/EN
VERSION:2.0
CALSCALE:GREGORIAN
BEGIN:VEVENT
UID:6107ebdae942edb3df71bb83888abfb7
DTSTAMP:20260420T021723Z
SUMMARY:Guys Night with Rabbi Sachs
DESCRIPTION:UJA Federation of Greater Toronto\nJewish Toronto Calendar\nhtt
 ps://jewishtoronto.com/calendar/guys-night-with-rabbi-sachs-1582051737\n\n
 March 3\, April 1\, and May 7\n\nFor Details: https://www.bethtikvahtoront
 o.org/event/guysnight
DTSTART;TZID=America/Toronto:20200303T190000
DTEND;TZID=America/Toronto:20200303T210000
END:VEVENT
END:VCALENDAR
