BEGIN:VCALENDAR
PRODID:-//eluceo/ical//2.0/EN
VERSION:2.0
CALSCALE:GREGORIAN
BEGIN:VEVENT
UID:b70c308414e63308451408dedd849544
DTSTAMP:20260424T200437Z
SUMMARY:Gurufest in support of Chai Lifeline Canada
DESCRIPTION:UJA Federation of Greater Toronto\nJewish Toronto Calendar\nhtt
 ps://jewishtoronto.com/calendar/gurufest-in-support-of-chai-lifeline-canad
 a\n\nGURUFEST 2019 in support of Chai Lifeline Canada will be on Monday Ma
 y 27\, 2019 at Kitchen24.
DTSTART;TZID=America/Toronto:20190527T190000
DTEND;TZID=America/Toronto:20190527T230000
END:VEVENT
END:VCALENDAR
