BEGIN:VCALENDAR
PRODID:-//eluceo/ical//2.0/EN
VERSION:2.0
CALSCALE:GREGORIAN
BEGIN:VEVENT
UID:68c1be5f781616d520a43f3247061b76
DTSTAMP:20260419T153717Z
SUMMARY:Grieving Together Virtual Support Group
DESCRIPTION:UJA Federation of Greater Toronto\nJewish Toronto Calendar\nhtt
 ps://jewishtoronto.com/calendar/grieving-together-virtual-support-group-16
 73882729\n\nBeginning Monday\, January 23 for six sessions offered on a bi
 -weekly basis\n(Winter co-hort will meet via Zoom)\n\nThe loss of a loved 
 one\, at any time\, is challenging. Judaism has a clear set of mourning ri
 tuals that help us relearn to be in the world after our significant loss. 
 For many of us these rituals have been altered or limited\, just as the re
 st of life has been full of uncertainties. Loss during the time of COVID-1
 9 brings a host of other issues that may complicate our grief and...
DTSTART;TZID=America/Toronto:20230123T194500
DTEND;TZID=America/Toronto:20230123T204500
END:VEVENT
END:VCALENDAR
