BEGIN:VCALENDAR
PRODID:-//eluceo/ical//2.0/EN
VERSION:2.0
CALSCALE:GREGORIAN
BEGIN:VEVENT
UID:5d78d5581985d8f494a93b01608062d6
DTSTAMP:20260423T002821Z
SUMMARY:Grieving Together Virtual Support Group
DESCRIPTION:UJA Federation of Greater Toronto\nJewish Toronto Calendar\nhtt
 ps://jewishtoronto.com/calendar/grieving-together-virtual-support-group-16
 47960627\n\nThe loss of a loved one\, at any time\, is challenging. Judais
 m has a clear set of mourning rituals that help us relearn to be in the wo
 rld after our significant loss. For many of us these rituals have been alt
 ered or limited\, just as the rest of life has been full of uncertainties.
  Loss during the time of COVID-19 brings a host of other issues that may c
 omplicate our grief and bereavement.\n\nWhat has not changed is our desire
  to support you at this time\, and our belief in the power of coming...
DTSTART;TZID=America/Toronto:20220328T194500
DTEND;TZID=America/Toronto:20220328T210000
END:VEVENT
END:VCALENDAR
