BEGIN:VCALENDAR
PRODID:-//eluceo/ical//2.0/EN
VERSION:2.0
CALSCALE:GREGORIAN
BEGIN:VEVENT
UID:5b0ffa60d8ce43d226f4f2c1478a6df3
DTSTAMP:20260425T211608Z
SUMMARY:Grieving Together Bereavement Group for Those Who Have Lost Partner
 s
DESCRIPTION:UJA Federation of Greater Toronto\nJewish Toronto Calendar\nhtt
 ps://jewishtoronto.com/calendar/grieving-together-bereavement-group-for-th
 ose-who-have-lost-partners-1744305549\n\nThe loss of a loved one\, at any 
 time\, is challenging. Judaism has a clear set of mourning rituals that he
 lp us relearn to be in the world after our significant loss. For many of u
 s\, these rituals have been altered or limited\, just as the rest of life 
 has been full of uncertainties. What has not changed is our desire to supp
 ort you at this time\, and our belief in the power of coming together as a
  community. We are here to provide an opportunity for you to meet\, suppor
 t and share—together....
DTSTART;TZID=America/Toronto:20250430T150000
DTEND;TZID=America/Toronto:20250430T160000
END:VEVENT
END:VCALENDAR
