BEGIN:VCALENDAR
PRODID:-//eluceo/ical//2.0/EN
VERSION:2.0
CALSCALE:GREGORIAN
BEGIN:VEVENT
UID:8880e5a60bdccc518a3b396116d71628
DTSTAMP:20260421T080626Z
SUMMARY:Grieving Together Bereavement Group for Those Who Have Lost Parents
DESCRIPTION:UJA Federation of Greater Toronto\nJewish Toronto Calendar\nhtt
 ps://jewishtoronto.com/calendar/grieving-together-bereavement-group-for-th
 ose-who-have-lost-parents-1744305751\n\nThe loss of a loved one\, at any t
 ime\, is challenging. Judaism has a clear set of mourning rituals that hel
 p us relearn to be in the world after our significant loss. For many of us
 \, these rituals have been altered or limited\, just as the rest of life h
 as been full of uncertainties. What has not changed is our desire to suppo
 rt you at this time\, and our belief in the power of coming together as a 
 community. We are here to provide an opportunity for you to meet\, support
  and share—together....
DTSTART;TZID=America/Toronto:20250529T200000
DTEND;TZID=America/Toronto:20250529T210000
END:VEVENT
END:VCALENDAR
