BEGIN:VCALENDAR
PRODID:-//eluceo/ical//2.0/EN
VERSION:2.0
CALSCALE:GREGORIAN
BEGIN:VEVENT
UID:357183030dbbdc13cb2f4a391b51c1aa
DTSTAMP:20260422T113100Z
SUMMARY:Gratitude Circle with Rabbi Robyn Fryer Bodzin
DESCRIPTION:UJA Federation of Greater Toronto\nJewish Toronto Calendar\nhtt
 ps://jewishtoronto.com/calendar/gratitude-circle-with-rabbi-robyn-fryer-bo
 dzin-1586869272\n\n"Praise the LORD\; for God is good\, God’s hesed is e
 ternal" (Psalm 136:1).\n\nPeople who exhibit gratitude report fewer aches 
 and pains\, and a general feeling of health. Research shows that gratitude
  can improve your psychological health\, enhance empathy and reduces aggre
 ssion\, improve your sleep\, enhance your self-esteem and increase mental 
 strength. Join us on Zoom on Thursday evenings at 7:45 p.m. between Pesah 
 and Shavuot to come together to express gratitude and acknowledge the...
DTSTART;TZID=America/Toronto:20200423T194500
DTEND;TZID=America/Toronto:20200423T204500
END:VEVENT
END:VCALENDAR
