BEGIN:VCALENDAR
PRODID:-//eluceo/ical//2.0/EN
VERSION:2.0
CALSCALE:GREGORIAN
BEGIN:VEVENT
UID:2f2f6973dd8b12a114ad05e67c4f90b0
DTSTAMP:20260422T085210Z
SUMMARY:Grant Writing for Creatives
DESCRIPTION:UJA Federation of Greater Toronto\nJewish Toronto Calendar\nhtt
 ps://jewishtoronto.com/calendar/grant-writing-for-creatives-1768931581\n\n
 A workshop with Jaclyn Grossman\n\nThis workshop introduces artists to the
  essentials of grant writing and funding strategies for creative projects.
 \n\nWe’ll explore how to identify funders\, prepare strong applications\
 , communicate ideas clearly\, and build realistic budgets and timelines. W
 hether you’re applying for your first grant or planning a larger-scale p
 roject\, you’ll leave with practical tools to help secure support and br
 ing your work to life.\n\nThis workshop is ideal for arti...
DTSTART;TZID=America/Toronto:20260415T180000
DTEND;TZID=America/Toronto:20260415T200000
END:VEVENT
END:VCALENDAR
