BEGIN:VCALENDAR
PRODID:-//eluceo/ical//2.0/EN
VERSION:2.0
CALSCALE:GREGORIAN
BEGIN:VEVENT
UID:3b24631e3be951e33497b48b344ef39a
DTSTAMP:20260420T161006Z
SUMMARY:Grand Celebratory Farbrengen honouring Rosh Hashana L'Chassidut
DESCRIPTION:UJA Federation of Greater Toronto\nJewish Toronto Calendar\nhtt
 ps://jewishtoronto.com/calendar/grand-celebratory-farbrengen-honouring-ros
 h-hashana-lchassidut\n\nOn Wednesday\, December 10\, eve of Yud Tes (the 
 19th of) Kislev at 8 pm\, the Chabad Flamingo community will host a Grand
  Celebratory Farbrengen honouring Rosh Hashana L'Chassidut. Our special
  guest speaker is Rabbi Velvel Butman\, Regional Director of Chabad activi
 ties in Westchester County.  This modern-day Chassidic Festival is joyful
 ly observed by Chassidim around the world with spirited Farbrengens. Ignit
 e and rejuvenate your commitment\, energy\, and dedication to the friendly
  warmth\, ...
DTSTART;TZID=America/Toronto:20141211T193000
DTEND;TZID=America/Toronto:20141211T213000
END:VEVENT
END:VCALENDAR
