BEGIN:VCALENDAR
PRODID:-//eluceo/ical//2.0/EN
VERSION:2.0
CALSCALE:GREGORIAN
BEGIN:VEVENT
UID:98b1ea18e5927bffa37496b3639c4fbb
DTSTAMP:20260421T132738Z
SUMMARY:Gourmet Hamantaschen Workshop at the Prosserman JCC
DESCRIPTION:UJA Federation of Greater Toronto\nJewish Toronto Calendar\nhtt
 ps://jewishtoronto.com/calendar/gourmet-hamantaschen-workshop-at-the-pross
 erman-jcc\n\nCome celebrate Purim as a family by making unique and delicio
 us Hamantaschen at our fun-filled workshop! Children will make their own H
 amantaschen dough from scratch with the help of a professional chef and JC
 C cooking class instructor. Learn to fold your Hamantaschen like a pro and
  fill them with an assortment of gourmet fillings. Flavours and fillings i
 nclude smores\, cheesecake sprinkle dough\, chocolate dough\, and rainbow 
 Hamantaschen.\n\nChildren ages 2+ with an adult.\n\nFee: $20 per chil...
DTSTART;TZID=America/Toronto:20150308T110000
DTEND;TZID=America/Toronto:20150308T120000
END:VEVENT
END:VCALENDAR
