BEGIN:VCALENDAR
PRODID:-//eluceo/ical//2.0/EN
VERSION:2.0
CALSCALE:GREGORIAN
BEGIN:VEVENT
UID:016db1c643246f9776e100237d36fd43
DTSTAMP:20260420T071340Z
SUMMARY:Gottdenker Hall of Honour
DESCRIPTION:UJA Federation of Greater Toronto\nJewish Toronto Calendar\nhtt
 ps://jewishtoronto.com/calendar/gottdenker-hall-of-honour-1695830769\n\nA 
 thank you event for Baycrest fundholders.
DTSTART;TZID=America/Toronto:20231023T180000
DTEND;TZID=America/Toronto:20231023T203000
END:VEVENT
END:VCALENDAR
