BEGIN:VCALENDAR
PRODID:-//eluceo/ical//2.0/EN
VERSION:2.0
CALSCALE:GREGORIAN
BEGIN:VEVENT
UID:aeccc486eaa9734cb4ab8d00208ccabe
DTSTAMP:20260420T072103Z
SUMMARY:Gottdenker Hall of Honour
DESCRIPTION:UJA Federation of Greater Toronto\nJewish Toronto Calendar\nhtt
 ps://jewishtoronto.com/calendar/gottdenker-hall-of-honour-1498743524\n\nTh
 anks to the generosity of Baycrest Foundation donor\, Joseph Gottdenker\, 
 Baycrest opened an innovative\, new recognition space in 2011 on the main 
 floor of the Apotex.\nThe Gottdenker Hall of Honour is a space where clien
 ts\, families and visitors can experience the Baycrest story and learn abo
 ut the vibrancy of our donor community.
DTSTART;TZID=America/Toronto:20171025T063000
DTEND;TZID=America/Toronto:20171025T213000
END:VEVENT
END:VCALENDAR
