BEGIN:VCALENDAR
PRODID:-//eluceo/ical//2.0/EN
VERSION:2.0
CALSCALE:GREGORIAN
BEGIN:VEVENT
UID:8be42049d1d647544ee9bc4f28812fb8
DTSTAMP:20260423T160139Z
SUMMARY:Going Somewhere? A Virtual Town Hall to Discuss University Life in 
 the Fall
DESCRIPTION:UJA Federation of Greater Toronto\nJewish Toronto Calendar\nhtt
 ps://jewishtoronto.com/calendar/going-somewhere-a-virtual-town-hall-to-dis
 cuss-university-life-in-the-fall-1591816418\n\nHillel Ontario and CIJA wil
 l be co-hosting a virtual community town hall to discuss the COVID implica
 tions on university life in the Fall. We will be joined by Rhonda Lenton\,
  President of York University and Mohammed Lachemi\, President of Ryerson 
 University. Other university Presidents TBD.
DTSTART;TZID=America/Toronto:20200629T190000
DTEND;TZID=America/Toronto:20200629T210000
END:VEVENT
END:VCALENDAR
