BEGIN:VCALENDAR
PRODID:-//eluceo/ical//2.0/EN
VERSION:2.0
CALSCALE:GREGORIAN
BEGIN:VEVENT
UID:61c8493cf0a5b2913927dcfe675179e5
DTSTAMP:20260420T012048Z
SUMMARY:Go Fish! Jewish Speed Dating
DESCRIPTION:UJA Federation of Greater Toronto\nJewish Toronto Calendar\nhtt
 ps://jewishtoronto.com/calendar/go-fish-jewish-speed-dating-1583975099\n\n
 Why swipe right when you could get it right? With 30 in-person dates in on
 e night\, you're dating on a bigger scale and casting a wider net. Join us
  for a fun night of Go Fish Speed Dating with Toronto's hottest Jewish sin
 gles!\n\nSign up now and apply to be one of our top singles!\n\nhttps://fo
 rms.gle/va8BFWNHRRMmTSQy7
DTSTART;TZID=America/Toronto:20200402T190000
DTEND;TZID=America/Toronto:20200402T220000
END:VEVENT
END:VCALENDAR
