BEGIN:VCALENDAR
PRODID:-//eluceo/ical//2.0/EN
VERSION:2.0
CALSCALE:GREGORIAN
BEGIN:VEVENT
UID:e227679d811b27b013e57c54d358b970
DTSTAMP:20260424T094202Z
SUMMARY:Go! Black Tie Monopoly
DESCRIPTION:UJA Federation of Greater Toronto\nJewish Toronto Calendar\nhtt
 ps://jewishtoronto.com/calendar/go-black-tie-monopoly-1454339200\n\nThe hi
 ghly anticipated and long awaited black-tie affair game night is back for 
 its third year in a row! GO! Black Tie Monopoly is an annual lavish affair
  that takes your typical game of Monopoly to an entire new level. The soir
 ee provides a grand opportunity for a joyous evening in support of Mount S
 inai Hospital.
DTSTART;TZID=America/Toronto:20160303T183000
DTEND;TZID=America/Toronto:20160303T213000
END:VEVENT
END:VCALENDAR
