BEGIN:VCALENDAR
PRODID:-//eluceo/ical//2.0/EN
VERSION:2.0
CALSCALE:GREGORIAN
BEGIN:VEVENT
UID:711d061ea64f47ecf5032d91264cd59c
DTSTAMP:20260419T163333Z
SUMMARY:Go! Black Tie Monopoly
DESCRIPTION:UJA Federation of Greater Toronto\nJewish Toronto Calendar\nhtt
 ps://jewishtoronto.com/calendar/go-black-tie-monopoly-1450889959\n\nGuests
  arrive in black tie formal wear while partaking in speed monopoly. Food a
 nd beverages are monopoly themed and include an open bar. Proceeds support
  Mount Sinai Hospital.
DTSTART;TZID=America/Toronto:20160303T063000
DTEND;TZID=America/Toronto:20160303T110000
END:VEVENT
END:VCALENDAR
