BEGIN:VCALENDAR
PRODID:-//eluceo/ical//2.0/EN
VERSION:2.0
CALSCALE:GREGORIAN
BEGIN:VEVENT
UID:79af87f753a24551052702187be1cd98
DTSTAMP:20260423T182840Z
SUMMARY:Global Shabbat Project
DESCRIPTION:UJA Federation of Greater Toronto\nJewish Toronto Calendar\nhtt
 ps://jewishtoronto.com/calendar/global-shabbat-project-1506240661\n\nCeleb
 rate the Worldwide Shabbat Project by sharing the Shabbat Experience or by
  attending any one of the multitude of events taking place across the GTA.
DTSTART;TZID=America/Toronto:20171027T180000
DTEND;TZID=America/Toronto:20171028T200000
END:VEVENT
END:VCALENDAR
