BEGIN:VCALENDAR
PRODID:-//eluceo/ical//2.0/EN
VERSION:2.0
CALSCALE:GREGORIAN
BEGIN:VEVENT
UID:4623533928de21933c035df53fb4c298
DTSTAMP:20260423T031031Z
SUMMARY:#givingtuesday
DESCRIPTION:UJA Federation of Greater Toronto\nJewish Toronto Calendar\nhtt
 ps://jewishtoronto.com/calendar/givingtuesday\n\nGiving Tuesday: A day of 
 Tzedakah\n \nAs the Holiday season approaches\, where the sales of Black 
 Friday and Cyber Monday are aggressively marketed\, let’s be aware of ho
 w difficult it must be for those who cannot afford to buy the basic necess
 ities. \n\nBut there is a way you can help! Giving Tuesday - December 2nd
  – is an international day of charitable giving\, when you can make a di
 fference in someone’s life.\n \nSo\, while you take advantage of the se
 ason’s great sales\, United Jew...
DTSTART;TZID=America/Toronto:20141202T000000
DTEND;TZID=America/Toronto:20141202T235500
END:VEVENT
END:VCALENDAR
