BEGIN:VCALENDAR
PRODID:-//eluceo/ical//2.0/EN
VERSION:2.0
CALSCALE:GREGORIAN
BEGIN:VEVENT
UID:947dd00b36a9dae3d45058c30166caa0
DTSTAMP:20260424T005221Z
SUMMARY:Giving with Love Fundraiser
DESCRIPTION:UJA Federation of Greater Toronto\nJewish Toronto Calendar\nhtt
 ps://jewishtoronto.com/calendar/giving-with-love-fundraiser-1571688692\n\n
 The MNLCT* is hosting a free\, family-friendly fundraiser featuring live m
 usic and selling Latin American & Middle Eastern food and gently used clot
 hing and household items.We’ll have specially made foods available to pr
 e-order ONLINE that can be picked up at the event. You can choose from:CHI
 CKEN TAMALES Chicken and cheese tamales. Chicken is halal.FALAFEL Falafel\
 , pickles\, and tahini sauce. Vegetarian.You can order your food through C
 anadaHelps (http://bit.ly/GWLfoodpresales)\, where you ca...
DTSTART;TZID=America/Toronto:20191109T100000
DTEND;TZID=America/Toronto:20191109T150000
END:VEVENT
END:VCALENDAR
