BEGIN:VCALENDAR
PRODID:-//eluceo/ical//2.0/EN
VERSION:2.0
CALSCALE:GREGORIAN
BEGIN:VEVENT
UID:cb7d9ba9d4f84d179edfc2f7185c6bc8
DTSTAMP:20260425T165231Z
SUMMARY:Giving from the Inside Out: Community clothing drive
DESCRIPTION:UJA Federation of Greater Toronto\nJewish Toronto Calendar\nhtt
 ps://jewishtoronto.com/calendar/giving-from-the-inside-out-community-cloth
 ing-drive-1481054075\n\nGet fit\, lose weight and donate! In support of Yo
 nge Street Mission\, InsideOut Health + Fitness studio is holding a commun
 ity clothing drive for community members to give back to those in need\, a
 nd reclaim their health this holiday season. The studio will be offering c
 omplimentary smoothies\, health and fitness demonstrations and healthy hol
 iday recipes to community members who bring in their gently-worn clothing.
DTSTART;TZID=America/Toronto:20161210T120000
DTEND;TZID=America/Toronto:20161210T150000
END:VEVENT
END:VCALENDAR
