BEGIN:VCALENDAR
PRODID:-//eluceo/ical//2.0/EN
VERSION:2.0
CALSCALE:GREGORIAN
BEGIN:VEVENT
UID:f83ddeb9dc6f117b9edf7a955b261062
DTSTAMP:20260423T195541Z
SUMMARY:Girls Gone Glam
DESCRIPTION:UJA Federation of Greater Toronto\nJewish Toronto Calendar\nhtt
 ps://jewishtoronto.com/calendar/girls-gone-glam\n\nWomen's only event fill
 ed with shopping\, auctions\, a sensational speaker\, dessert and more. Ti
 ckets online at website\, https://secure.e2rm.com/registrant/startup.aspx?
 eventid=143028.
DTSTART;TZID=America/Toronto:20140529T190000
DTEND;TZID=America/Toronto:20140529T220000
END:VEVENT
END:VCALENDAR
