BEGIN:VCALENDAR
PRODID:-//eluceo/ical//2.0/EN
VERSION:2.0
CALSCALE:GREGORIAN
BEGIN:VEVENT
UID:a6583fee9c9250e3e774c12875887346
DTSTAMP:20260421T170108Z
SUMMARY:Get the Skinny from Bethenny Frankel
DESCRIPTION:UJA Federation of Greater Toronto\nJewish Toronto Calendar\nhtt
 ps://jewishtoronto.com/calendar/get-the-skinny-from-bethenny-frankel\n\nGe
 t the Skinny from Bethenny Frankel
DTSTART;TZID=America/Toronto:20140123T193000
DTEND;TZID=America/Toronto:20140123T220000
END:VEVENT
END:VCALENDAR
