BEGIN:VCALENDAR
PRODID:-//eluceo/ical//2.0/EN
VERSION:2.0
CALSCALE:GREGORIAN
BEGIN:VEVENT
UID:bb54588b3b49d346ffbeb38897a569cd
DTSTAMP:20260420T005914Z
SUMMARY:Gesher Theater’s The Dybbuk
DESCRIPTION:UJA Federation of Greater Toronto\nJewish Toronto Calendar\nhtt
 ps://jewishtoronto.com/calendar/gesher-theaters-the-dybbuk-1527801549\n\nS
 how One Productions Presents\nGesher Theater’s The Dybbuk (North America
 n Premiere)\nSeptember 29 at 8pm & 30 at 3pm\, 2018 | Elgin Theatre\n\nEer
 ily Beautiful. Powerfully Haunting. \nAn exquisite spectacle of love beyon
 d death from Israel’s acclaimed theatre company.\n\nDirect from Israel\,
  and in celebration of the 70th anniversary of the establishment of the Je
 wish state\, the internationally acclaimed Gesher Theater presents the Nor
 th American premiere of The Dybbuk.\n
DTSTART;TZID=America/Toronto:20180929T200000
DTEND;TZID=America/Toronto:20180929T220000
END:VEVENT
END:VCALENDAR
