BEGIN:VCALENDAR
PRODID:-//eluceo/ical//2.0/EN
VERSION:2.0
CALSCALE:GREGORIAN
BEGIN:VEVENT
UID:8493e89bb1a2f8a44f451e61ce413725
DTSTAMP:20260420T005124Z
SUMMARY:George Washington and the Jews\, with Clifford Orwin
DESCRIPTION:UJA Federation of Greater Toronto\nJewish Toronto Calendar\nhtt
 ps://jewishtoronto.com/calendar/george-washington-and-the-jews-with-cliffo
 rd-orwin-1548630088\n\nOf the American Founders\, George Washington was he
  only one  to concern himself with the Jews at all.  Amidst so many grave 
 crises that compelled Washington’s attention\, just why did he find time
  for the Jews?  Clifford Orwin is Professor of Political Science\, Classic
 s\, and Jewish Studies at the University of Toronto and Distinguished Visi
 ting Fellow of the Hoover Institution of Stanford University.
DTSTART;TZID=America/Toronto:20190209T133000
DTEND;TZID=America/Toronto:20190209T143000
END:VEVENT
END:VCALENDAR
