BEGIN:VCALENDAR
PRODID:-//eluceo/ical//2.0/EN
VERSION:2.0
CALSCALE:GREGORIAN
BEGIN:VEVENT
UID:45d0ced4a1ae848793c6bf314b3c8667
DTSTAMP:20260419T131743Z
SUMMARY:Genetic History of the Jewish People
DESCRIPTION:UJA Federation of Greater Toronto\nJewish Toronto Calendar\nhtt
 ps://jewishtoronto.com/calendar/genetic-history-of-the-jewish-people\n\nPr
 esented by Dr. Karl Skorecki\, Technion-Israel Institute of Technology. 7:
 00 pm Wine & hors d'oeuvres reception (Kashruth observed)\; 8:00 pm Dr. Sk
 orecki's presentation. Co-sponsored by the University of Toronto Faculty o
 f Medecine.\n\nFees: $ 54.00 - Per person
DTSTART;TZID=America/Toronto:20140522T190000
DTEND;TZID=America/Toronto:20140522T223000
END:VEVENT
END:VCALENDAR
