BEGIN:VCALENDAR
PRODID:-//eluceo/ical//2.0/EN
VERSION:2.0
CALSCALE:GREGORIAN
BEGIN:VEVENT
UID:ddd5390910ba70fb13710f980f5b4ece
DTSTAMP:20260422T171412Z
SUMMARY:Genesis Through the Lens of Chinese Cosmology
DESCRIPTION:UJA Federation of Greater Toronto\nJewish Toronto Calendar\nhtt
 ps://jewishtoronto.com/calendar/genesis-through-the-lens-of-chinese-cosmol
 ogy-1776805071\n\nThis event and other in the series celebrate May\, Asian
  Heritage Month and Jewish Heritage Month. This project is promoting colla
 boration and ally ship between the Chinese and the Jewish communities\, an
 d includes the availability of a free display which can be downloaded and 
 shared with libraries and schools. The display showcases the civic contrib
 utions of a range of Jewish and Chinese individuals to promote awareness a
 nd good will. Learn more about the project by visiting\;...
DTSTART;TZID=America/Toronto:20260531T190000
DTEND;TZID=America/Toronto:20260531T203000
END:VEVENT
END:VCALENDAR
