BEGIN:VCALENDAR
PRODID:-//eluceo/ical//2.0/EN
VERSION:2.0
CALSCALE:GREGORIAN
BEGIN:VEVENT
UID:dbb1236c99f8169526d51c6766e975cd
DTSTAMP:20260422T152023Z
SUMMARY:Genesis - Innovation Nation - Featuring Naomi Zener and Sarah Fulfo
 rd
DESCRIPTION:UJA Federation of Greater Toronto\nJewish Toronto Calendar\nhtt
 ps://jewishtoronto.com/calendar/genesis-innovation-nation--featuring-naomi
 -zener-and-sarah-fulford\n\nNaomi Zener is the Vice-President\, Business a
 nd Legal Affairs for VICE in Canada\n\nSarah Fulford\, Toronto Life Magazi
 ne\n\nVenue:  Design Exchange \n              234 Bay Street\n 
              Toronto
DTSTART;TZID=America/Toronto:20160404T190000
DTEND;TZID=America/Toronto:20160404T210000
END:VEVENT
END:VCALENDAR
