BEGIN:VCALENDAR
PRODID:-//eluceo/ical//2.0/EN
VERSION:2.0
CALSCALE:GREGORIAN
BEGIN:VEVENT
UID:13097a3f51dc2d4ba6c1f900b2e24c1c
DTSTAMP:20260424T212435Z
SUMMARY:Genealogy Workshop at Shaar Shalom Synagogue
DESCRIPTION:UJA Federation of Greater Toronto\nJewish Toronto Calendar\nhtt
 ps://jewishtoronto.com/calendar/genealogy-workshop-at-shaar-shalom-synagog
 ue\n\nJoin us and discover your roots!\n\nContact Office: office@shaarshal
 om.ca
DTSTART;TZID=America/Toronto:20150125T193000
DTEND;TZID=America/Toronto:20150125T213000
END:VEVENT
END:VCALENDAR
