BEGIN:VCALENDAR
PRODID:-//eluceo/ical//2.0/EN
VERSION:2.0
CALSCALE:GREGORIAN
BEGIN:VEVENT
UID:cad48748de36351ac9b177ae56b97c2b
DTSTAMP:20260420T071933Z
SUMMARY:Genealogy in the Digital Age
DESCRIPTION:UJA Federation of Greater Toronto\nJewish Toronto Calendar\nhtt
 ps://jewishtoronto.com/calendar/genealogy-in-the-digital-age-1735833921\n\
 nThe Lodzer Centre presents Genealogy in the Digital Age\nExplore Ai in Je
 wish genealogy with Jerry Scherer\, JGS Toronto
DTSTART;TZID=America/Toronto:20250522T193000
DTEND;TZID=America/Toronto:20250522T213000
END:VEVENT
END:VCALENDAR
