BEGIN:VCALENDAR
PRODID:-//eluceo/ical//2.0/EN
VERSION:2.0
CALSCALE:GREGORIAN
BEGIN:VEVENT
UID:f1293b065a4c79c905bd51009189e179
DTSTAMP:20260422T145707Z
SUMMARY:Games People Play at Baycrest
DESCRIPTION:UJA Federation of Greater Toronto\nJewish Toronto Calendar\nhtt
 ps://jewishtoronto.com/calendar/games-people-play-at-baycrest-1461935846\n
 \nCrak\, Bam\, Dot. Make it a Full House!\n\nShuffle the cards. Break out 
 the Scrabble board. Roll the dice. What’s your game? Chances are you’l
 l find it this fall at Games People Play\, an evening of fun and fundraisi
 ng for Baycrest.\n\nVisit our website for more details: www.baycrest.org/g
 amespeopleplay
DTSTART;TZID=America/Toronto:20161114T180000
DTEND;TZID=America/Toronto:20161114T230000
END:VEVENT
END:VCALENDAR
