BEGIN:VCALENDAR
PRODID:-//eluceo/ical//2.0/EN
VERSION:2.0
CALSCALE:GREGORIAN
BEGIN:VEVENT
UID:8c7938d7758b1a07f14eefbae8f8a9f3
DTSTAMP:20260426T025253Z
SUMMARY:Games Afternoons
DESCRIPTION:UJA Federation of Greater Toronto\nJewish Toronto Calendar\nhtt
 ps://jewishtoronto.com/calendar/games-afternoons-1696456040\n\nThe Thursda
 y Afternoon Tradition Returns!\n\nJoin us for a social afternoon of Mahjon
 g\, Bridge and Canasta. For beginners and seasoned veterans alike.
DTSTART;TZID=America/Toronto:20231012T123000
DTEND;TZID=America/Toronto:20231012T153000
END:VEVENT
END:VCALENDAR
